Package: dcanr Version: 1.22.0 Command: /Library/Frameworks/R.framework/Resources/bin/R CMD build --keep-empty-dirs --no-resave-data dcanr StartedAt: 2025-01-27 22:03:08 -0500 (Mon, 27 Jan 2025) EndedAt: 2025-01-27 22:03:53 -0500 (Mon, 27 Jan 2025) EllapsedTime: 45.6 seconds RetCode: 0 Status: OK PackageFile: dcanr_1.22.0.tar.gz PackageFileSize: 1.744 MiB