Package: dcGSA Version: 1.34.0 Command: F:\biocbuild\bbs-3.20-bioc\R\bin\R.exe CMD INSTALL dcGSA StartedAt: 2025-01-30 15:37:33 -0500 (Thu, 30 Jan 2025) EndedAt: 2025-01-30 15:37:42 -0500 (Thu, 30 Jan 2025) EllapsedTime: 8.6 seconds RetCode: 0 Status: OK