Package: dcGSA Version: 1.34.0 Command: rm -rf dcGSA.buildbin-libdir && mkdir dcGSA.buildbin-libdir && F:\biocbuild\bbs-3.20-bioc\R\bin\R.exe CMD INSTALL --build --library=dcGSA.buildbin-libdir dcGSA_1.34.0.tar.gz StartedAt: 2025-04-01 08:01:50 -0400 (Tue, 01 Apr 2025) EndedAt: 2025-04-01 08:01:58 -0400 (Tue, 01 Apr 2025) EllapsedTime: 7.8 seconds RetCode: 0 Status: OK PackageFile: dcGSA_1.34.0.zip PackageFileSize: 54.77 KiB