Package: dar Version: 1.2.0 Command: /home/biocbuild/R/R/bin/R CMD INSTALL dar StartedAt: 2025-01-30 21:00:52 -0000 (Thu, 30 Jan 2025) EndedAt: 2025-01-30 21:01:21 -0000 (Thu, 30 Jan 2025) EllapsedTime: 28.7 seconds RetCode: 0 Status: OK