Package: dar Version: 1.2.0 Command: /home/biocbuild/R/R/bin/R CMD check --install=check:dar.install-out.txt --library=/home/biocbuild/R/R/site-library --no-vignettes --timings dar_1.2.0.tar.gz StartedAt: 2025-01-31 05:27:31 -0000 (Fri, 31 Jan 2025) EndedAt: 2025-01-31 05:40:39 -0000 (Fri, 31 Jan 2025) EllapsedTime: 787.8 seconds RetCode: 0 Status: OK CheckDir: dar.Rcheck Warnings: 0