Package: dar Version: 1.2.0 Command: /home/biocbuild/bbs-3.20-bioc/R/bin/R CMD INSTALL dar StartedAt: 2025-03-31 15:54:05 -0400 (Mon, 31 Mar 2025) EndedAt: 2025-03-31 15:54:26 -0400 (Mon, 31 Mar 2025) EllapsedTime: 21.5 seconds RetCode: 0 Status: OK