Package: dar Version: 1.2.0 Command: rm -rf dar.buildbin-libdir && mkdir dar.buildbin-libdir && /Users/biocbuild/BBS/utils/build-universal.sh dar_1.2.0.tar.gz /Library/Frameworks/R.framework/Resources/bin/R dar.buildbin-libdir StartedAt: 2025-04-02 14:00:07 -0400 (Wed, 02 Apr 2025) EndedAt: 2025-04-02 14:00:38 -0400 (Wed, 02 Apr 2025) EllapsedTime: 30.6 seconds RetCode: 0 Status: OK PackageFile: dar_1.2.0.tgz PackageFileSize: 2.373 MiB