Package: dagLogo Version: 1.44.0 Command: rm -rf dagLogo.buildbin-libdir && mkdir dagLogo.buildbin-libdir && F:\biocbuild\bbs-3.20-bioc\R\bin\R.exe CMD INSTALL --build --library=dagLogo.buildbin-libdir dagLogo_1.44.0.tar.gz StartedAt: 2025-01-28 07:58:56 -0500 (Tue, 28 Jan 2025) EndedAt: 2025-01-28 08:00:01 -0500 (Tue, 28 Jan 2025) EllapsedTime: 64.4 seconds RetCode: 0 Status: OK PackageFile: dagLogo_1.44.0.zip PackageFileSize: 2.876 MiB