Package: dagLogo Version: 1.44.0 Command: /home/biocbuild/bbs-3.20-bioc/R/bin/R CMD check --install=check:dagLogo.install-out.txt --library=/home/biocbuild/bbs-3.20-bioc/R/site-library --timings dagLogo_1.44.0.tar.gz StartedAt: 2025-03-31 21:19:31 -0400 (Mon, 31 Mar 2025) EndedAt: 2025-03-31 21:26:24 -0400 (Mon, 31 Mar 2025) EllapsedTime: 413.4 seconds RetCode: 0 Status: OK CheckDir: dagLogo.Rcheck Warnings: 0