Package: dagLogo Version: 1.44.0 Command: /Library/Frameworks/R.framework/Resources/bin/R CMD check --install=check:dagLogo.install-out.txt --library=/Library/Frameworks/R.framework/Resources/library --no-vignettes --timings dagLogo_1.44.0.tar.gz StartedAt: 2025-01-28 16:34:15 -0500 (Tue, 28 Jan 2025) EndedAt: 2025-01-28 16:41:23 -0500 (Tue, 28 Jan 2025) EllapsedTime: 427.6 seconds RetCode: 0 Status: OK CheckDir: dagLogo.Rcheck Warnings: 0