Package: dagLogo Version: 1.44.0 Command: rm -rf dagLogo.buildbin-libdir && mkdir dagLogo.buildbin-libdir && /Users/biocbuild/BBS/utils/build-universal.sh dagLogo_1.44.0.tar.gz /Library/Frameworks/R.framework/Resources/bin/R dagLogo.buildbin-libdir StartedAt: 2025-01-29 14:18:10 -0500 (Wed, 29 Jan 2025) EndedAt: 2025-01-29 14:19:10 -0500 (Wed, 29 Jan 2025) EllapsedTime: 59.8 seconds RetCode: 0 Status: OK PackageFile: dagLogo_1.44.0.tgz PackageFileSize: 3.679 MiB