Package: dada2 Version: 1.34.0 Command: /Library/Frameworks/R.framework/Resources/bin/R CMD INSTALL dada2 StartedAt: 2025-03-31 16:16:56 -0400 (Mon, 31 Mar 2025) EndedAt: 2025-03-31 16:18:20 -0400 (Mon, 31 Mar 2025) EllapsedTime: 84.3 seconds RetCode: 0 Status: OK