Package: daMA Version: 1.78.0 Command: F:\biocbuild\bbs-3.20-bioc\R\bin\R.exe CMD INSTALL daMA StartedAt: 2025-01-27 15:27:32 -0500 (Mon, 27 Jan 2025) EndedAt: 2025-01-27 15:28:00 -0500 (Mon, 27 Jan 2025) EllapsedTime: 27.5 seconds RetCode: 0 Status: OK