Package: dStruct Version: 1.12.0 Command: /home/biocbuild/R/R/bin/R CMD INSTALL dStruct StartedAt: 2025-01-27 21:09:50 -0000 (Mon, 27 Jan 2025) EndedAt: 2025-01-27 21:09:53 -0000 (Mon, 27 Jan 2025) EllapsedTime: 3.2 seconds RetCode: 0 Status: OK