Package: dStruct Version: 1.12.0 Command: F:\biocbuild\bbs-3.20-bioc\R\bin\R.exe CMD check --no-multiarch --install=check:dStruct.install-out.txt --library=F:\biocbuild\bbs-3.20-bioc\R\library --no-vignettes --timings dStruct_1.12.0.tar.gz StartedAt: 2025-04-01 01:08:21 -0400 (Tue, 01 Apr 2025) EndedAt: 2025-04-01 01:10:00 -0400 (Tue, 01 Apr 2025) EllapsedTime: 99.8 seconds RetCode: 0 Status: OK CheckDir: dStruct.Rcheck Warnings: 0