Package: dStruct Version: 1.12.0 Command: /Library/Frameworks/R.framework/Resources/bin/R CMD check --install=check:dStruct.install-out.txt --library=/Library/Frameworks/R.framework/Resources/library --no-vignettes --timings dStruct_1.12.0.tar.gz StartedAt: 2025-01-28 18:04:21 -0500 (Tue, 28 Jan 2025) EndedAt: 2025-01-28 18:05:42 -0500 (Tue, 28 Jan 2025) EllapsedTime: 81.5 seconds RetCode: 0 Status: OK CheckDir: dStruct.Rcheck Warnings: 0