Package: cytoviewer Version: 1.6.0 Command: F:\biocbuild\bbs-3.20-bioc\R\bin\R.exe CMD INSTALL cytoviewer StartedAt: 2025-01-27 16:38:08 -0500 (Mon, 27 Jan 2025) EndedAt: 2025-01-27 16:39:02 -0500 (Mon, 27 Jan 2025) EllapsedTime: 54.0 seconds RetCode: 0 Status: OK