Package: cytoviewer Version: 1.6.0 Command: /Library/Frameworks/R.framework/Resources/bin/R CMD build --keep-empty-dirs --no-resave-data cytoviewer StartedAt: 2025-01-27 21:59:00 -0500 (Mon, 27 Jan 2025) EndedAt: 2025-01-27 22:00:25 -0500 (Mon, 27 Jan 2025) EllapsedTime: 84.7 seconds RetCode: 0 Status: OK PackageFile: cytoviewer_1.6.0.tar.gz PackageFileSize: 9.26 MiB