Package: cytoviewer Version: 1.6.0 Command: rm -rf cytoviewer.buildbin-libdir && mkdir cytoviewer.buildbin-libdir && /Users/biocbuild/BBS/utils/build-universal.sh cytoviewer_1.6.0.tar.gz /Library/Frameworks/R.framework/Resources/bin/R cytoviewer.buildbin-libdir StartedAt: 2025-01-29 14:17:56 -0500 (Wed, 29 Jan 2025) EndedAt: 2025-01-29 14:18:55 -0500 (Wed, 29 Jan 2025) EllapsedTime: 58.7 seconds RetCode: 0 Status: OK PackageFile: cytoviewer_1.6.0.tgz PackageFileSize: 4.876 MiB