Package: cytomapper Version: 1.17.0 Command: chmod a+r cytomapper -R && C:\Users\biocbuild\bbs-3.20-bioc\R\bin\R.exe CMD build --keep-empty-dirs --no-resave-data cytomapper StartedAt: 2024-07-15 17:23:34 -0400 (Mon, 15 Jul 2024) EndedAt: 2024-07-15 17:25:29 -0400 (Mon, 15 Jul 2024) EllapsedTime: 115.3 seconds RetCode: 0 Status: OK PackageFile: cytomapper_1.17.0.tar.gz PackageFileSize: 20.89 MiB