Package: cytomapper Version: 1.18.0 Command: /home/biocbuild/bbs-3.20-bioc/R/bin/R CMD INSTALL cytomapper StartedAt: 2025-01-27 16:33:59 -0500 (Mon, 27 Jan 2025) EndedAt: 2025-01-27 16:34:59 -0500 (Mon, 27 Jan 2025) EllapsedTime: 60.0 seconds RetCode: 0 Status: OK