Package: cytomapper Version: 1.18.0 Command: /home/biocbuild/bbs-3.20-bioc/R/bin/R CMD check --install=check:cytomapper.install-out.txt --library=/home/biocbuild/bbs-3.20-bioc/R/site-library --timings cytomapper_1.18.0.tar.gz StartedAt: 2025-01-27 22:14:27 -0500 (Mon, 27 Jan 2025) EndedAt: 2025-01-27 22:29:30 -0500 (Mon, 27 Jan 2025) EllapsedTime: 902.8 seconds RetCode: 0 Status: OK CheckDir: cytomapper.Rcheck Warnings: 0