Package: cytolib Version: 2.18.2 Command: /home/biocbuild/bbs-3.20-bioc/R/bin/R CMD INSTALL cytolib StartedAt: 2025-01-27 16:00:45 -0500 (Mon, 27 Jan 2025) EndedAt: 2025-01-27 16:03:10 -0500 (Mon, 27 Jan 2025) EllapsedTime: 145.4 seconds RetCode: 0 Status: OK