Package: cytolib Version: 2.18.2 Command: /home/biocbuild/bbs-3.20-bioc/R/bin/R CMD build --keep-empty-dirs --no-resave-data --md5 cytolib StartedAt: 2025-01-27 17:49:44 -0500 (Mon, 27 Jan 2025) EndedAt: 2025-01-27 17:52:16 -0500 (Mon, 27 Jan 2025) EllapsedTime: 152.2 seconds RetCode: 0 Status: OK PackageFile: cytolib_2.18.2.tar.gz PackageFileSize: 5.822 MiB