Package: cytolib Version: 2.18.2 Maintainer: Mike Jiang MaintainerEmail: mike at ozette.ai git_url: https://git.bioconductor.org/packages/cytolib git_branch: RELEASE_3_20 git_last_commit: 77ce963 git_last_commit_date: 2025-01-20 19:25:50 -0400 (Mon, 20 Jan 2025)