Package: cytofQC Version: 1.6.0 Command: /home/biocbuild/bbs-3.20-bioc/R/bin/R CMD INSTALL cytofQC StartedAt: 2025-02-03 16:08:57 -0500 (Mon, 03 Feb 2025) EndedAt: 2025-02-03 16:09:36 -0500 (Mon, 03 Feb 2025) EllapsedTime: 39.8 seconds RetCode: 0 Status: OK