Package: cytofQC Version: 1.6.0 Command: /Library/Frameworks/R.framework/Resources/bin/R CMD check --install=check:cytofQC.install-out.txt --library=/Library/Frameworks/R.framework/Resources/library --no-vignettes --timings cytofQC_1.6.0.tar.gz StartedAt: 2025-02-04 02:08:50 -0500 (Tue, 04 Feb 2025) EndedAt: 2025-02-04 02:21:07 -0500 (Tue, 04 Feb 2025) EllapsedTime: 737.5 seconds RetCode: 0 Status: OK CheckDir: cytofQC.Rcheck Warnings: 0