Package: cytoMEM Version: 1.10.0 Command: /home/biocbuild/R/R/bin/R CMD build --keep-empty-dirs --no-resave-data cytoMEM StartedAt: 2025-01-27 23:41:54 -0000 (Mon, 27 Jan 2025) EndedAt: 2025-01-27 23:42:14 -0000 (Mon, 27 Jan 2025) EllapsedTime: 20.0 seconds RetCode: 0 Status: OK PackageFile: cytoMEM_1.10.0.tar.gz PackageFileSize: 2.981 MiB