Package: cytoMEM Version: 1.10.0 Command: F:\biocbuild\bbs-3.20-bioc\R\bin\R.exe CMD check --no-multiarch --install=check:cytoMEM.install-out.txt --library=F:\biocbuild\bbs-3.20-bioc\R\library --no-vignettes --timings cytoMEM_1.10.0.tar.gz StartedAt: 2025-01-28 00:37:03 -0500 (Tue, 28 Jan 2025) EndedAt: 2025-01-28 00:38:14 -0500 (Tue, 28 Jan 2025) EllapsedTime: 71.2 seconds RetCode: 0 Status: OK CheckDir: cytoMEM.Rcheck Warnings: 0