Package: cytoMEM Version: 1.10.0 Command: rm -rf cytoMEM.buildbin-libdir && mkdir cytoMEM.buildbin-libdir && F:\biocbuild\bbs-3.20-bioc\R\bin\R.exe CMD INSTALL --build --library=cytoMEM.buildbin-libdir cytoMEM_1.10.0.tar.gz StartedAt: 2025-04-01 08:00:55 -0400 (Tue, 01 Apr 2025) EndedAt: 2025-04-01 08:01:21 -0400 (Tue, 01 Apr 2025) EllapsedTime: 26.3 seconds RetCode: 0 Status: OK PackageFile: cytoMEM_1.10.0.zip PackageFileSize: 2.993 MiB