Package: cytoMEM Version: 1.10.0 Command: /home/biocbuild/bbs-3.20-bioc/R/bin/R CMD check --install=check:cytoMEM.install-out.txt --library=/home/biocbuild/bbs-3.20-bioc/R/site-library --timings cytoMEM_1.10.0.tar.gz StartedAt: 2025-01-27 22:14:37 -0500 (Mon, 27 Jan 2025) EndedAt: 2025-01-27 22:15:42 -0500 (Mon, 27 Jan 2025) EllapsedTime: 65.0 seconds RetCode: 0 Status: OK CheckDir: cytoMEM.Rcheck Warnings: 0