Package: cytoMEM Version: 1.10.0 Command: /Library/Frameworks/R.framework/Resources/bin/R CMD check --install=check:cytoMEM.install-out.txt --library=/Library/Frameworks/R.framework/Resources/library --no-vignettes --timings cytoMEM_1.10.0.tar.gz StartedAt: 2025-01-28 02:22:35 -0500 (Tue, 28 Jan 2025) EndedAt: 2025-01-28 02:25:10 -0500 (Tue, 28 Jan 2025) EllapsedTime: 154.8 seconds RetCode: 0 Status: OK CheckDir: cytoMEM.Rcheck Warnings: 0