Package: cytoMEM Version: 1.10.0 Command: /Library/Frameworks/R.framework/Resources/bin/R CMD build --keep-empty-dirs --no-resave-data cytoMEM StartedAt: 2025-03-31 18:04:20 -0400 (Mon, 31 Mar 2025) EndedAt: 2025-03-31 18:04:56 -0400 (Mon, 31 Mar 2025) EllapsedTime: 35.8 seconds RetCode: 0 Status: OK PackageFile: cytoMEM_1.10.0.tar.gz PackageFileSize: 3.074 MiB