Package: cytoMEM Version: 1.10.0 Command: /Library/Frameworks/R.framework/Resources/bin/R CMD check --install=check:cytoMEM.install-out.txt --library=/Library/Frameworks/R.framework/Resources/library --no-vignettes --timings cytoMEM_1.10.0.tar.gz StartedAt: 2024-11-09 00:15:20 -0500 (Sat, 09 Nov 2024) EndedAt: 2024-11-09 00:19:26 -0500 (Sat, 09 Nov 2024) EllapsedTime: 245.5 seconds RetCode: 0 Status: OK CheckDir: cytoMEM.Rcheck Warnings: 0