Package: cytoMEM Version: 1.10.0 Command: /Library/Frameworks/R.framework/Resources/bin/R CMD INSTALL cytoMEM StartedAt: 2025-01-27 15:14:00 -0500 (Mon, 27 Jan 2025) EndedAt: 2025-01-27 15:14:09 -0500 (Mon, 27 Jan 2025) EllapsedTime: 8.5 seconds RetCode: 0 Status: OK