Package: cytoKernel Version: 1.12.0 Command: /home/biocbuild/R/R/bin/R CMD check --install=check:cytoKernel.install-out.txt --library=/home/biocbuild/R/R/site-library --no-vignettes --timings cytoKernel_1.12.0.tar.gz StartedAt: 2025-02-04 06:08:35 -0000 (Tue, 04 Feb 2025) EndedAt: 2025-02-04 06:12:40 -0000 (Tue, 04 Feb 2025) EllapsedTime: 245.2 seconds RetCode: 0 Status: OK CheckDir: cytoKernel.Rcheck Warnings: 0