Package: cytoKernel Version: 1.12.0 Command: /Library/Frameworks/R.framework/Resources/bin/R CMD INSTALL cytoKernel StartedAt: 2025-02-03 15:56:09 -0500 (Mon, 03 Feb 2025) EndedAt: 2025-02-03 15:57:15 -0500 (Mon, 03 Feb 2025) EllapsedTime: 66.3 seconds RetCode: 0 Status: OK