Package: cytoKernel Version: 1.12.0 Command: rm -rf cytoKernel.buildbin-libdir && mkdir cytoKernel.buildbin-libdir && /Users/biocbuild/BBS/utils/build-universal.sh cytoKernel_1.12.0.tar.gz /Library/Frameworks/R.framework/Resources/bin/R cytoKernel.buildbin-libdir StartedAt: 2025-02-05 15:28:33 -0500 (Wed, 05 Feb 2025) EndedAt: 2025-02-05 15:29:12 -0500 (Wed, 05 Feb 2025) EllapsedTime: 38.4 seconds RetCode: 0 Status: OK PackageFile: cytoKernel_1.12.0.tgz PackageFileSize: 836.8 KiB