Package: cypress Version: 1.2.0 Command: F:\biocbuild\bbs-3.20-bioc\R\bin\R.exe CMD INSTALL cypress StartedAt: 2025-03-31 16:51:07 -0400 (Mon, 31 Mar 2025) EndedAt: 2025-03-31 16:51:49 -0400 (Mon, 31 Mar 2025) EllapsedTime: 41.9 seconds RetCode: 0 Status: OK