Package: cydar Version: 1.30.0 Command: /Library/Frameworks/R.framework/Resources/bin/R CMD INSTALL cydar StartedAt: 2025-02-10 16:40:42 -0500 (Mon, 10 Feb 2025) EndedAt: 2025-02-10 16:41:34 -0500 (Mon, 10 Feb 2025) EllapsedTime: 52.1 seconds RetCode: 0 Status: OK