Package: cydar Version: 1.30.0 Command: /Library/Frameworks/R.framework/Resources/bin/R CMD check --install=check:cydar.install-out.txt --library=/Library/Frameworks/R.framework/Resources/library --no-vignettes --timings cydar_1.30.0.tar.gz StartedAt: 2025-02-11 16:33:41 -0500 (Tue, 11 Feb 2025) EndedAt: 2025-02-11 16:38:00 -0500 (Tue, 11 Feb 2025) EllapsedTime: 259.3 seconds RetCode: 0 Status: OK CheckDir: cydar.Rcheck Warnings: 0