Package: cydar Version: 1.30.0 Command: /Library/Frameworks/R.framework/Resources/bin/R CMD build --keep-empty-dirs --no-resave-data cydar StartedAt: 2025-02-10 21:58:09 -0500 (Mon, 10 Feb 2025) EndedAt: 2025-02-10 21:59:29 -0500 (Mon, 10 Feb 2025) EllapsedTime: 79.3 seconds RetCode: 0 Status: OK PackageFile: cydar_1.30.0.tar.gz PackageFileSize: 744.2 KiB