Package: cydar Version: 1.30.0 Command: rm -rf cydar.buildbin-libdir && mkdir cydar.buildbin-libdir && /Users/biocbuild/BBS/utils/build-universal.sh cydar_1.30.0.tar.gz /Library/Frameworks/R.framework/Resources/bin/R cydar.buildbin-libdir StartedAt: 2025-02-12 14:42:13 -0500 (Wed, 12 Feb 2025) EndedAt: 2025-02-12 14:43:08 -0500 (Wed, 12 Feb 2025) EllapsedTime: 55.1 seconds RetCode: 0 Status: OK PackageFile: cydar_1.30.0.tgz PackageFileSize: 1.458 MiB