Package: cycle Version: 1.60.0 Command: /home/biocbuild/R/R/bin/R CMD check --install=check:cycle.install-out.txt --library=/home/biocbuild/R/R/site-library --no-vignettes --timings cycle_1.60.0.tar.gz StartedAt: 2025-01-28 06:14:56 -0000 (Tue, 28 Jan 2025) EndedAt: 2025-01-28 06:15:29 -0000 (Tue, 28 Jan 2025) EllapsedTime: 33.0 seconds RetCode: 0 Status: WARNINGS CheckDir: cycle.Rcheck Warnings: 1