Package: cycle Version: 1.60.0 Command: /home/biocbuild/R/R/bin/R CMD build --keep-empty-dirs --no-resave-data cycle StartedAt: 2025-01-27 23:40:31 -0000 (Mon, 27 Jan 2025) EndedAt: 2025-01-27 23:41:03 -0000 (Mon, 27 Jan 2025) EllapsedTime: 32.0 seconds RetCode: 0 Status: OK PackageFile: cycle_1.60.0.tar.gz PackageFileSize: 241.1 KiB