Package: cycle Version: 1.60.0 Command: rm -rf cycle.buildbin-libdir && mkdir cycle.buildbin-libdir && F:\biocbuild\bbs-3.20-bioc\R\bin\R.exe CMD INSTALL --build --library=cycle.buildbin-libdir cycle_1.60.0.tar.gz StartedAt: 2025-01-28 07:57:56 -0500 (Tue, 28 Jan 2025) EndedAt: 2025-01-28 07:58:07 -0500 (Tue, 28 Jan 2025) EllapsedTime: 10.9 seconds RetCode: 0 Status: OK PackageFile: cycle_1.60.0.zip PackageFileSize: 126.5 KiB