Package: cycle Version: 1.60.0 Command: /home/biocbuild/bbs-3.20-bioc/R/bin/R CMD check --install=check:cycle.install-out.txt --library=/home/biocbuild/bbs-3.20-bioc/R/site-library --timings cycle_1.60.0.tar.gz StartedAt: 2025-01-27 22:11:50 -0500 (Mon, 27 Jan 2025) EndedAt: 2025-01-27 22:12:41 -0500 (Mon, 27 Jan 2025) EllapsedTime: 51.0 seconds RetCode: 0 Status: OK CheckDir: cycle.Rcheck Warnings: 0