Package: cycle Version: 1.60.0 Command: /home/biocbuild/R/R/bin/R CMD INSTALL cycle StartedAt: 2024-11-19 20:33:51 -0000 (Tue, 19 Nov 2024) EndedAt: 2024-11-19 20:34:13 -0000 (Tue, 19 Nov 2024) EllapsedTime: 22.5 seconds RetCode: 0 Status: OK