Package: cycle Version: 1.60.0 Command: /Library/Frameworks/R.framework/Resources/bin/R CMD build --keep-empty-dirs --no-resave-data cycle StartedAt: 2024-11-08 16:43:23 -0500 (Fri, 08 Nov 2024) EndedAt: 2024-11-08 16:43:34 -0500 (Fri, 08 Nov 2024) EllapsedTime: 10.1 seconds RetCode: 0 Status: OK PackageFile: cycle_1.60.0.tar.gz PackageFileSize: 248 KiB