Package: cycle Version: 1.60.0 Command: /Library/Frameworks/R.framework/Resources/bin/R CMD build --keep-empty-dirs --no-resave-data cycle StartedAt: 2025-01-30 21:54:25 -0500 (Thu, 30 Jan 2025) EndedAt: 2025-01-30 21:54:52 -0500 (Thu, 30 Jan 2025) EllapsedTime: 27.4 seconds RetCode: 0 Status: OK PackageFile: cycle_1.60.0.tar.gz PackageFileSize: 247.9 KiB